BEGIN:VCALENDAR
VERSION:2.0
PRODID:-//ICS Generator//NONSGML ICS Generator//DE
BEGIN:VEVENT
UID:1774264381367-kqjadpz?@ics-generator.de
DTSTAMP:20260323T111301Z
DTSTART:20260418T100000
DTEND:20260420T140000
SUMMARY:Sachsenback
DESCRIPTION:ie SACHSENBACK ist weit mehr als nur eine Fachmesse – sie ist der zentrale Branchentreffpunkt für das Bäcker- und Konditorenhandwerk in der Region. Mit ihrem einzigartigen Mix aus regionalem Flair\, familiärer Atmosphäre und modernem Messeambiente bietet die Veranstaltung in den Hallen des Messegeländes Dresden eine perfekte Plattform für Austausch\, Innovation und Inspiration.
LOCATION:Messe Dresden
BEGIN:VALARM
ACTION:DISPLAY
TRIGGER:-PT1440M
DESCRIPTION:Reminder
END:VALARM
ATTACH:https://www.messe-stuttgart.de/sachsenback/programm/rahmenprogramm/backforum/
END:VEVENT
END:VCALENDAR
