BEGIN:VCALENDAR
VERSION:2.0
PRODID:-//ICS Generator//NONSGML ICS Generator//DE
BEGIN:VEVENT
UID:1774264381367-kqjadpz?@ics-generator.de
DTSTAMP:20260323T113120Z
DTSTART:20260609T123000
DTEND:20260610T153000
SUMMARY:inpraxi Handelstag
DESCRIPTION:Eine Netzwerkveranstaltung am ersten Tag und eine Messe am zweiten Tag mit unseren Mitgliedsbetrieben und ihren Entscheidern\, die mit deutlich über 5.000 Fachgeschäften im DACH-Raum in der Bäckerei- und der Metzgereibranche weiterhin investieren und auf Wachstumskurs sind.
LOCATION:Lokhalle Göttingen
BEGIN:VALARM
ACTION:DISPLAY
TRIGGER:-PT1440M
DESCRIPTION:Reminder
END:VALARM
ATTACH:https://www.uniti-expo.de/
END:VEVENT
END:VCALENDAR
