BEGIN:VCALENDAR
VERSION:2.0
PRODID:-//ICS Generator//NONSGML ICS Generator//DE
BEGIN:VEVENT
UID:1774264381367-kqjadpz?@ics-generator.de
DTSTAMP:20260323T112331Z
DTSTART:20260519T093000
DTEND:20260521T160000
SUMMARY:Uniti Expo
DESCRIPTION:Die UNITI expo ist die europäische Leitmesse der Tankstellen- und Carwash-Branche. Das Vortragsprogramm\, das kompakte Format mit drei Messetagen und der zweijährige Rhythmus sind genau auf die Anforderungen der Zielgruppe abgestimmt. Damit ist die UNITI expo für Aussteller und Besucher eine einzigartige Gelegenheit\, neue Kontakte zu knüpfen und Geschäftsbeziehungen zu festigen.
LOCATION:Messe Stuttgart
BEGIN:VALARM
ACTION:DISPLAY
TRIGGER:-PT1440M
DESCRIPTION:Reminder
END:VALARM
ATTACH:https://www.uniti-expo.de/
END:VEVENT
END:VCALENDAR
